BEGIN:VCALENDAR
VERSION:2.0
PRODID:-//Red Peloton Cycling Team - ECPv6.15.20//NONSGML v1.0//EN
CALSCALE:GREGORIAN
METHOD:PUBLISH
X-WR-CALNAME:Red Peloton Cycling Team
X-ORIGINAL-URL:https://redpeloton.com
X-WR-CALDESC:Events for Red Peloton Cycling Team
REFRESH-INTERVAL;VALUE=DURATION:PT1H
X-Robots-Tag:noindex
X-PUBLISHED-TTL:PT1H
BEGIN:VTIMEZONE
TZID:America/Los_Angeles
BEGIN:DAYLIGHT
TZOFFSETFROM:-0800
TZOFFSETTO:-0700
TZNAME:PDT
DTSTART:20230312T100000
END:DAYLIGHT
BEGIN:STANDARD
TZOFFSETFROM:-0700
TZOFFSETTO:-0800
TZNAME:PST
DTSTART:20231105T090000
END:STANDARD
BEGIN:DAYLIGHT
TZOFFSETFROM:-0800
TZOFFSETTO:-0700
TZNAME:PDT
DTSTART:20240310T100000
END:DAYLIGHT
BEGIN:STANDARD
TZOFFSETFROM:-0700
TZOFFSETTO:-0800
TZNAME:PST
DTSTART:20241103T090000
END:STANDARD
BEGIN:DAYLIGHT
TZOFFSETFROM:-0800
TZOFFSETTO:-0700
TZNAME:PDT
DTSTART:20250309T100000
END:DAYLIGHT
BEGIN:STANDARD
TZOFFSETFROM:-0700
TZOFFSETTO:-0800
TZNAME:PST
DTSTART:20251102T090000
END:STANDARD
END:VTIMEZONE
BEGIN:VEVENT
DTSTART;TZID=America/Los_Angeles:20240302T010000
DTEND;TZID=America/Los_Angeles:20240302T010000
DTSTAMP:20260421T030808
CREATED:20240104T054805Z
LAST-MODIFIED:20240211T001052Z
UID:10000087-1709341200-1709341200@redpeloton.com
SUMMARY:Red Peloton Team Training Rides
DESCRIPTION:Red Peloton holds team training rides the first and third Saturdays of the month. Our rides include 3 distinct groups\, all on the same route so that when/if you decide the pace is a bit too spicy\, you can drop back to the next group:\nA ride – 25+mph (added distance as agreed upon by the group)\nB ride – 20-25mph\nC ride – 15-20mph \n9:00 am sharp departure. Please arrive by 8:45 am. \nGuests are welcome but please be aware of the course as these are drop rides.
URL:https://redpeloton.com/cycling-event/red-peloton-team-training-rides-4/2024-03-02/
LOCATION:The Bike Shop – Santa Rosa\, 3080 Marlow Rd. Ste A2\, Santa Rosa\, CA\, 95403\, United States
CATEGORIES:Red Peloton Training Rides
ATTACH;FMTTYPE=image/jpeg:https://redpeloton.com/wp-content/uploads/2024/01/Red-Peloton-Training-Rides.jpg
END:VEVENT
END:VCALENDAR