BEGIN:VCALENDAR
VERSION:2.0
PRODID:-//Red Peloton Cycling Team - ECPv6.15.20//NONSGML v1.0//EN
CALSCALE:GREGORIAN
METHOD:PUBLISH
X-ORIGINAL-URL:https://redpeloton.com
X-WR-CALDESC:Events for Red Peloton Cycling Team
REFRESH-INTERVAL;VALUE=DURATION:PT1H
X-Robots-Tag:noindex
X-PUBLISHED-TTL:PT1H
BEGIN:VTIMEZONE
TZID:America/Los_Angeles
BEGIN:DAYLIGHT
TZOFFSETFROM:-0800
TZOFFSETTO:-0700
TZNAME:PDT
DTSTART:20230312T100000
END:DAYLIGHT
BEGIN:STANDARD
TZOFFSETFROM:-0700
TZOFFSETTO:-0800
TZNAME:PST
DTSTART:20231105T090000
END:STANDARD
BEGIN:DAYLIGHT
TZOFFSETFROM:-0800
TZOFFSETTO:-0700
TZNAME:PDT
DTSTART:20240310T100000
END:DAYLIGHT
BEGIN:STANDARD
TZOFFSETFROM:-0700
TZOFFSETTO:-0800
TZNAME:PST
DTSTART:20241103T090000
END:STANDARD
BEGIN:DAYLIGHT
TZOFFSETFROM:-0800
TZOFFSETTO:-0700
TZNAME:PDT
DTSTART:20250309T100000
END:DAYLIGHT
BEGIN:STANDARD
TZOFFSETFROM:-0700
TZOFFSETTO:-0800
TZNAME:PST
DTSTART:20251102T090000
END:STANDARD
END:VTIMEZONE
BEGIN:VEVENT
DTSTART;TZID=America/Los_Angeles:20240317T010000
DTEND;TZID=America/Los_Angeles:20240317T100000
DTSTAMP:20260421T030828
CREATED:20240210T063607Z
LAST-MODIFIED:20240210T063922Z
UID:10000101-1710637200-1710669600@redpeloton.com
SUMMARY:2024 Bariani Olive Oil Road Race
DESCRIPTION:2024 Bariani Road Race hosted by Bariani Olive Oil will be held Sunday\, March 17. Online registration deadline is Thursday\, March 14\, at 9 pm.
URL:https://redpeloton.com/cycling-event/2024-bariani-olive-oil-road-race/
CATEGORIES:Road Races
ATTACH;FMTTYPE=image/jpeg:https://redpeloton.com/wp-content/uploads/2024/02/Default-Race-Image.jpg
END:VEVENT
END:VCALENDAR