BEGIN:VCALENDAR
VERSION:2.0
PRODID:-//Red Peloton Cycling Team - ECPv6.15.20//NONSGML v1.0//EN
CALSCALE:GREGORIAN
METHOD:PUBLISH
X-WR-CALNAME:Red Peloton Cycling Team
X-ORIGINAL-URL:https://redpeloton.com
X-WR-CALDESC:Events for Red Peloton Cycling Team
REFRESH-INTERVAL;VALUE=DURATION:PT1H
X-Robots-Tag:noindex
X-PUBLISHED-TTL:PT1H
BEGIN:VTIMEZONE
TZID:America/Los_Angeles
BEGIN:DAYLIGHT
TZOFFSETFROM:-0800
TZOFFSETTO:-0700
TZNAME:PDT
DTSTART:20230312T100000
END:DAYLIGHT
BEGIN:STANDARD
TZOFFSETFROM:-0700
TZOFFSETTO:-0800
TZNAME:PST
DTSTART:20231105T090000
END:STANDARD
BEGIN:DAYLIGHT
TZOFFSETFROM:-0800
TZOFFSETTO:-0700
TZNAME:PDT
DTSTART:20240310T100000
END:DAYLIGHT
BEGIN:STANDARD
TZOFFSETFROM:-0700
TZOFFSETTO:-0800
TZNAME:PST
DTSTART:20241103T090000
END:STANDARD
BEGIN:DAYLIGHT
TZOFFSETFROM:-0800
TZOFFSETTO:-0700
TZNAME:PDT
DTSTART:20250309T100000
END:DAYLIGHT
BEGIN:STANDARD
TZOFFSETFROM:-0700
TZOFFSETTO:-0800
TZNAME:PST
DTSTART:20251102T090000
END:STANDARD
END:VTIMEZONE
BEGIN:VEVENT
DTSTART;VALUE=DATE:20240404
DTEND;VALUE=DATE:20240408
DTSTAMP:20260421T012748
CREATED:20240214T055742Z
LAST-MODIFIED:20240214T055742Z
UID:10000115-1712250000-1712509199@redpeloton.com
SUMMARY:Red Peloton Team Camp
DESCRIPTION:For Red Peloton team members only\, this is our annual team camp for training and bonding.\nThere will be rides every day and other events.\nDetails to come.
URL:https://redpeloton.com/cycling-event/red-peloton-team-camp/
CATEGORIES:Red Peloton Training Rides
ATTACH;FMTTYPE=image/jpeg:https://redpeloton.com/wp-content/uploads/2024/02/Red-Peloton-Team-Camp.jpg
END:VEVENT
END:VCALENDAR