BEGIN:VCALENDAR
VERSION:2.0
PRODID:-//Red Peloton Cycling Team - ECPv6.15.20//NONSGML v1.0//EN
CALSCALE:GREGORIAN
METHOD:PUBLISH
X-WR-CALNAME:Red Peloton Cycling Team
X-ORIGINAL-URL:https://redpeloton.com
X-WR-CALDESC:Events for Red Peloton Cycling Team
REFRESH-INTERVAL;VALUE=DURATION:PT1H
X-Robots-Tag:noindex
X-PUBLISHED-TTL:PT1H
BEGIN:VTIMEZONE
TZID:America/Los_Angeles
BEGIN:DAYLIGHT
TZOFFSETFROM:-0800
TZOFFSETTO:-0700
TZNAME:PDT
DTSTART:20250309T100000
END:DAYLIGHT
BEGIN:STANDARD
TZOFFSETFROM:-0700
TZOFFSETTO:-0800
TZNAME:PST
DTSTART:20251102T090000
END:STANDARD
BEGIN:DAYLIGHT
TZOFFSETFROM:-0800
TZOFFSETTO:-0700
TZNAME:PDT
DTSTART:20260308T100000
END:DAYLIGHT
BEGIN:STANDARD
TZOFFSETFROM:-0700
TZOFFSETTO:-0800
TZNAME:PST
DTSTART:20261101T090000
END:STANDARD
BEGIN:DAYLIGHT
TZOFFSETFROM:-0800
TZOFFSETTO:-0700
TZNAME:PDT
DTSTART:20270314T100000
END:DAYLIGHT
BEGIN:STANDARD
TZOFFSETFROM:-0700
TZOFFSETTO:-0800
TZNAME:PST
DTSTART:20271107T090000
END:STANDARD
END:VTIMEZONE
BEGIN:VEVENT
DTSTART;TZID=America/Los_Angeles:20260306T164500
DTEND;TZID=America/Los_Angeles:20260306T190000
DTSTAMP:20260421T043403
CREATED:20260206T231858Z
LAST-MODIFIED:20260214T171911Z
UID:10002210-1772815500-1772823600@redpeloton.com
SUMMARY:Red Peloton Team Camp 2026 - Sponsor Ride
DESCRIPTION:This is a Red Peloton team member and sponsors only event. \nDay 1 of Team Camp includes the Sponsor Appreciation Ride\n \nRed Peloton Thanks Our Team Sponsors \nThis is the team’s annual ride to show our appreciation to our sponsors who support North Bay cycling and all of the important philanthropic work we do. \n4:45 pm Meet at Old Caz Brewery\n5:00 pm Roll-out for the ride with our sponsors: .\n6:15 – 6:30 Meet back at Old Caz for beer and food from the Galvin’s food truck.\nOld Caz will be providing the first few rounds of beer\, Red Peloton will get some appetizers and shared food. (this won’t be a full dinner). \nThis will be a no-drop\, conversational\, 1 hour flattish loop. \nRoute: https://www.strava.com/routes/3453948242845107844 \nSee and support the 2026 Red Peloton Cycling Team Sponsors
URL:https://redpeloton.com/cycling-event/red-peloton-sponsor-ride/
LOCATION:Old Caz Beer\, 1500 Valley House Dr.\, STE 110\, CA\, 94928\, United States
CATEGORIES:Red Peloton Team Camp,Red Peloton Team Only Events
ATTACH;FMTTYPE=image/jpeg:https://redpeloton.com/wp-content/uploads/2026/02/Santa-Rosa-cycling-club-bike-Red-Peloton.jpg
END:VEVENT
BEGIN:VEVENT
DTSTART;TZID=America/Los_Angeles:20260307T084500
DTEND;TZID=America/Los_Angeles:20260307T100000
DTSTAMP:20260421T043403
CREATED:20260206T232401Z
LAST-MODIFIED:20260214T172726Z
UID:10002211-1772873100-1772877600@redpeloton.com
SUMMARY:Red Peloton Team Camp 2026 - Saturday Team Ride
DESCRIPTION:This is a Red Peloton Team Member event only \nDay 2 of Team Camp includes the Team Ride and Team Dinner \n8:45 am Meet at Breakaway Bikes\, best bike shop in Santa Rosa\, California \nWe will take a team photo in front of the store. \nIf driving to the start\, DO NOT park at Breakaway\, as we’ll be leaving for a ride\, and we don’t want to take those parking spots.\nPlease park at the old theatre on Summerfield or in the ample parking behind it at Phas3 Muay Thai as it is less than a 1/4 mile away and should have plenty of parking\, or elsewhere since you’ll have your bike! \nFrom this point\, we will follow this loop in three different groups (A/B/C) \nRoute: https://strava.app.link/vWEUZTzJJ0b
URL:https://redpeloton.com/cycling-event/red-peloton-team-camp-2026/
LOCATION:Breakaway Bikes\, 4215 Montgomery Dr.\, Santa Rosa\, 95405\, United States
CATEGORIES:Red Peloton Team Camp,Red Peloton Team Only Events,Red Peloton Training Rides
ATTACH;FMTTYPE=image/jpeg:https://redpeloton.com/wp-content/uploads/2026/02/Red-Peloton-bike-racing-team-Bay-Area-Northern-California.jpg
END:VEVENT
BEGIN:VEVENT
DTSTART;TZID=America/Los_Angeles:20260307T160000
DTEND;TZID=America/Los_Angeles:20260307T180000
DTSTAMP:20260421T043403
CREATED:20260214T172659Z
LAST-MODIFIED:20260214T172659Z
UID:10002594-1772899200-1772906400@redpeloton.com
SUMMARY:Red Peloton Team Camp 2026 - Team Dinner
DESCRIPTION:This is a Red Peloton Team Member event only \nDay 2 of Team Camp includes the Team Ride and Team Dinner\nRed Peloton team members are invited along with family\, partners\, etc. to bond over dinner and get excited about our 2026 season! \nTeam Dinner will be at Rosso’s Pizzeria: 53 Montgomery Drive\, Santa Rosa\n4:00 to 6:00 pm \nThe cost will be $50 per person. Please feel free to bring cash or check (made out to Rosso’s) to cover your meal. You may bring guests (family/partners/Spouses/etc). https://rossopizzeria.com \nWe must be all gone by 6 PM\, so please be on time.\nIf we move team camp due to rain\, we’ll still have dinner. \nDirection to Rosso Pizzeria
URL:https://redpeloton.com/cycling-event/red-peloton-team-camp-2026-team-dinner/
LOCATION:Breakaway Bikes\, 4215 Montgomery Dr.\, Santa Rosa\, 95405\, United States
CATEGORIES:Red Peloton Team Camp,Red Peloton Team Only Events
ATTACH;FMTTYPE=image/jpeg:https://redpeloton.com/wp-content/uploads/2026/02/Cycling-club-Santa-Rosa-California.jpg
END:VEVENT
BEGIN:VEVENT
DTSTART;TZID=America/Los_Angeles:20260308T090000
DTEND;TZID=America/Los_Angeles:20260308T120000
DTSTAMP:20260421T043403
CREATED:20260214T173203Z
LAST-MODIFIED:20260304T164733Z
UID:10002595-1772960400-1772971200@redpeloton.com
SUMMARY:Red Peloton Team Camp 2026 - Sunday Rides - Open to the Public
DESCRIPTION:These rides are part of the Red Peloton Team Camp but are OPEN TO THE PUBLIC. Please join the team to enjoy the rides together!  \nDay 3 of Team Camp includes multiple ride options \nCheck your preferred event for location and other details. \nRace/U23 team will be meeting at Sutter Hospital at 9:00 am for our skills clinic and a fast ride through Dry Creek Valley. \nOff Road option – Lead by Matt Stewart of Breakaway Bikes. Meeting at the shop at 9:00\, rolling shortly thereafter. – RSVP so Matt (mstewart@breakawaybikes.co) knows how many people to expect\, note you will be required to sign the waiver sheet for this ride\, so please do. \nWomen’s Ride Option – Led by Linda Eichhorn. Meeting at Breakaway Bikes at 9:00 am. Please RSVP with Linda\, (llaudari@sonic.net) so that she knows how many folks are coming and what route she should choose. Linda will be leading an out and back ride to Sonoma to see the tulips on Lovall Valley. There will be an option to add a bit of climbing for a 66 mile ride\, doing the Lovall Valley Loop or simply turning around after admiring the tulips for a 48 mile ride without the climb. \nHere is the map for the Women’s Ride. https://ridewithgps.com/routes/54136420
URL:https://redpeloton.com/cycling-event/red-peloton-team-camp-2026-sunday-rides/
LOCATION:Breakaway Bikes\, 4215 Montgomery Dr.\, Santa Rosa\, 95405\, United States
CATEGORIES:Red Peloton Team Camp,Red Peloton Team Only Events,Red Peloton Training Rides
ATTACH;FMTTYPE=image/jpeg:https://redpeloton.com/wp-content/uploads/2026/02/Red-Peloton-bike-racing-team-santa-rosa-california.jpg
END:VEVENT
END:VCALENDAR