BEGIN:VCALENDAR
VERSION:2.0
PRODID:-//Red Peloton Cycling Team - ECPv6.15.20//NONSGML v1.0//EN
CALSCALE:GREGORIAN
METHOD:PUBLISH
X-WR-CALNAME:Red Peloton Cycling Team
X-ORIGINAL-URL:https://redpeloton.com
X-WR-CALDESC:Events for Red Peloton Cycling Team
REFRESH-INTERVAL;VALUE=DURATION:PT1H
X-Robots-Tag:noindex
X-PUBLISHED-TTL:PT1H
BEGIN:VTIMEZONE
TZID:America/Los_Angeles
BEGIN:DAYLIGHT
TZOFFSETFROM:-0800
TZOFFSETTO:-0700
TZNAME:PDT
DTSTART:20230312T100000
END:DAYLIGHT
BEGIN:STANDARD
TZOFFSETFROM:-0700
TZOFFSETTO:-0800
TZNAME:PST
DTSTART:20231105T090000
END:STANDARD
BEGIN:DAYLIGHT
TZOFFSETFROM:-0800
TZOFFSETTO:-0700
TZNAME:PDT
DTSTART:20240310T100000
END:DAYLIGHT
BEGIN:STANDARD
TZOFFSETFROM:-0700
TZOFFSETTO:-0800
TZNAME:PST
DTSTART:20241103T090000
END:STANDARD
BEGIN:DAYLIGHT
TZOFFSETFROM:-0800
TZOFFSETTO:-0700
TZNAME:PDT
DTSTART:20250309T100000
END:DAYLIGHT
BEGIN:STANDARD
TZOFFSETFROM:-0700
TZOFFSETTO:-0800
TZNAME:PST
DTSTART:20251102T090000
END:STANDARD
END:VTIMEZONE
BEGIN:VEVENT
DTSTART;TZID=America/Los_Angeles:20240827T103000
DTEND;TZID=America/Los_Angeles:20240827T130000
DTSTAMP:20260420T231616
CREATED:20240210T235802Z
LAST-MODIFIED:20240210T235803Z
UID:10000112-1724754600-1724763600@redpeloton.com
SUMMARY:Tuesday Night Twilights (TNT) Criterium Series
DESCRIPTION:Tuesday Night Twilights (TNT!) Criteriums are a Northern California bike race series presented by Red Peloton. The TNTs have been a staple of the North Bay for more than 20 years.  The 2024 season of the TNT series runs April to September. \nView TNT details and register on the Tuesday Night Twilights Criterium page.
URL:https://redpeloton.com/cycling-event/tuesday-night-twilights-tnt-criterium-series/2024-08-27/
LOCATION:Sonoma County Fairgrounds\, 1350 Bennett Valley Rd\, Santa Rosa\, CA\, 95404\, United States
CATEGORIES:Criteriums
ATTACH;FMTTYPE=image/jpeg:https://redpeloton.com/wp-content/uploads/2024/02/Tuesday-Night-Twilights-Criterium.jpg
END:VEVENT
END:VCALENDAR