BEGIN:VCALENDAR
VERSION:2.0
PRODID:-//Red Peloton Cycling Team - ECPv6.15.20//NONSGML v1.0//EN
CALSCALE:GREGORIAN
METHOD:PUBLISH
X-ORIGINAL-URL:https://redpeloton.com
X-WR-CALDESC:Events for Red Peloton Cycling Team
REFRESH-INTERVAL;VALUE=DURATION:PT1H
X-Robots-Tag:noindex
X-PUBLISHED-TTL:PT1H
BEGIN:VTIMEZONE
TZID:America/Los_Angeles
BEGIN:DAYLIGHT
TZOFFSETFROM:-0800
TZOFFSETTO:-0700
TZNAME:PDT
DTSTART:20230312T100000
END:DAYLIGHT
BEGIN:STANDARD
TZOFFSETFROM:-0700
TZOFFSETTO:-0800
TZNAME:PST
DTSTART:20231105T090000
END:STANDARD
BEGIN:DAYLIGHT
TZOFFSETFROM:-0800
TZOFFSETTO:-0700
TZNAME:PDT
DTSTART:20240310T100000
END:DAYLIGHT
BEGIN:STANDARD
TZOFFSETFROM:-0700
TZOFFSETTO:-0800
TZNAME:PST
DTSTART:20241103T090000
END:STANDARD
BEGIN:DAYLIGHT
TZOFFSETFROM:-0800
TZOFFSETTO:-0700
TZNAME:PDT
DTSTART:20250309T100000
END:DAYLIGHT
BEGIN:STANDARD
TZOFFSETFROM:-0700
TZOFFSETTO:-0800
TZNAME:PST
DTSTART:20251102T090000
END:STANDARD
END:VTIMEZONE
BEGIN:VEVENT
DTSTART;TZID=America/Los_Angeles:20240316T010000
DTEND;TZID=America/Los_Angeles:20240316T100000
DTSTAMP:20260421T171838
CREATED:20240210T062141Z
LAST-MODIFIED:20240314T231814Z
UID:10000100-1710550800-1710583200@redpeloton.com
SUMMARY:Land Park Criterium 2024
DESCRIPTION:The Land Park Criterium 2024\, presented by Sacramento Golden Wheelmen\, will be Saturday\, March 16\, 2024 in Sacramento\, California.
URL:https://redpeloton.com/cycling-event/land-park-criterium-2024/
LOCATION:Land Park\, 1948 Sutterville Road\, Sacramento\, CA\, 95822\, United States
CATEGORIES:Criteriums
ATTACH;FMTTYPE=image/jpeg:https://redpeloton.com/wp-content/uploads/2024/02/Default-Race-Image.jpg
END:VEVENT
END:VCALENDAR