BEGIN:VCALENDAR
VERSION:2.0
PRODID:-//Red Peloton Cycling Team - ECPv6.15.20//NONSGML v1.0//EN
CALSCALE:GREGORIAN
METHOD:PUBLISH
X-ORIGINAL-URL:https://redpeloton.com
X-WR-CALDESC:Events for Red Peloton Cycling Team
REFRESH-INTERVAL;VALUE=DURATION:PT1H
X-Robots-Tag:noindex
X-PUBLISHED-TTL:PT1H
BEGIN:VTIMEZONE
TZID:America/Los_Angeles
BEGIN:DAYLIGHT
TZOFFSETFROM:-0800
TZOFFSETTO:-0700
TZNAME:PDT
DTSTART:20240310T100000
END:DAYLIGHT
BEGIN:STANDARD
TZOFFSETFROM:-0700
TZOFFSETTO:-0800
TZNAME:PST
DTSTART:20241103T090000
END:STANDARD
BEGIN:DAYLIGHT
TZOFFSETFROM:-0800
TZOFFSETTO:-0700
TZNAME:PDT
DTSTART:20250309T100000
END:DAYLIGHT
BEGIN:STANDARD
TZOFFSETFROM:-0700
TZOFFSETTO:-0800
TZNAME:PST
DTSTART:20251102T090000
END:STANDARD
BEGIN:DAYLIGHT
TZOFFSETFROM:-0800
TZOFFSETTO:-0700
TZNAME:PDT
DTSTART:20260308T100000
END:DAYLIGHT
BEGIN:STANDARD
TZOFFSETFROM:-0700
TZOFFSETTO:-0800
TZNAME:PST
DTSTART:20261101T090000
END:STANDARD
END:VTIMEZONE
BEGIN:VEVENT
DTSTART;TZID=America/Los_Angeles:20251211T090000
DTEND;TZID=America/Los_Angeles:20251211T170000
DTSTAMP:20260419T142344
CREATED:20251210T011334Z
LAST-MODIFIED:20251210T011334Z
UID:10002023-1765443600-1765472400@redpeloton.com
SUMMARY:Skinks Ascend Backroads 100
DESCRIPTION:View full details and sign up on Strava:\nhttps://www.strava.com/clubs/326872/group_events/3433493199948433304 \nA fun unsanctioned social ride to help spread awareness of BTS (Blue Tailed Skinks) program and current campaign. Not a ‘no-drop’ ride\, folks need to have baseline fitness\, endurance and carry nutrition (2 short stops planned). \nThe route heads to Healdsburg\, back to Sebastopol then out to Tomales and back. This give riders a chance to do the first half of the ride and then return to the Barlow if they wish. \nThursday\, Dec. 11\, meet at 8:30 AM Sarmentine Bakery in the Barlow Complex (Sebastopol). Roll at 9:00 AM Sharp. \nGoal is to finish about 4:00 PM. \nAny donations appreciated . . see Donate page at\nhttps://www.bluetailedskinks.com/donate
URL:https://redpeloton.com/cycling-event/skinks-ascend-backroads-100/
LOCATION:Sarmentine Organic French Bakery\, 6760 McKinley St.\, Sebastopol\, CA\, 95472\, United States
CATEGORIES:Cycling Community Events,Sonoma County Bike Rides
END:VEVENT
END:VCALENDAR